BEGIN:VCALENDAR
VERSION:2.0
PRODID:-//Oxford Cycling Club - ECPv6.15.18//NONSGML v1.0//EN
CALSCALE:GREGORIAN
METHOD:PUBLISH
X-ORIGINAL-URL:https://www.oxfordcyclingclub.co.uk
X-WR-CALDESC:Events for Oxford Cycling Club
REFRESH-INTERVAL;VALUE=DURATION:PT1H
X-Robots-Tag:noindex
X-PUBLISHED-TTL:PT1H
BEGIN:VTIMEZONE
TZID:UTC
BEGIN:STANDARD
TZOFFSETFROM:+0000
TZOFFSETTO:+0000
TZNAME:UTC
DTSTART:20220101T000000
END:STANDARD
END:VTIMEZONE
BEGIN:VEVENT
DTSTART;TZID=UTC:20230416T080000
DTEND;TZID=UTC:20230420T170000
DTSTAMP:20260426T042642
CREATED:20230331T070509Z
LAST-MODIFIED:20230331T070509Z
UID:3188-1681632000-1682010000@www.oxfordcyclingclub.co.uk
SUMMARY:OCC Mallorca Tour
DESCRIPTION:
URL:https://www.oxfordcyclingclub.co.uk/event/occ-mallorca-tour/
ATTACH;FMTTYPE=image/jpeg:https://www.oxfordcyclingclub.co.uk/wp-content/uploads/2022/10/89c70326-498d-4679-83eb-cd00b8669e5d.jpg
END:VEVENT
END:VCALENDAR