BEGIN:VCALENDAR
VERSION:2.0
PRODID:-//Oxford Cycling Club - ECPv6.15.18//NONSGML v1.0//EN
CALSCALE:GREGORIAN
METHOD:PUBLISH
X-WR-CALNAME:Oxford Cycling Club
X-ORIGINAL-URL:https://www.oxfordcyclingclub.co.uk
X-WR-CALDESC:Events for Oxford Cycling Club
REFRESH-INTERVAL;VALUE=DURATION:PT1H
X-Robots-Tag:noindex
X-PUBLISHED-TTL:PT1H
BEGIN:VTIMEZONE
TZID:UTC
BEGIN:STANDARD
TZOFFSETFROM:+0000
TZOFFSETTO:+0000
TZNAME:UTC
DTSTART:20220101T000000
END:STANDARD
END:VTIMEZONE
BEGIN:VEVENT
DTSTART;TZID=UTC:20231220T193000
DTEND;TZID=UTC:20231220T233000
DTSTAMP:20260425T135020
CREATED:20231104T131457Z
LAST-MODIFIED:20231104T131457Z
UID:3508-1703100600-1703115000@www.oxfordcyclingclub.co.uk
SUMMARY:The OCC Christmas Party
DESCRIPTION:This is a member only event.
URL:https://www.oxfordcyclingclub.co.uk/event/the-occ-christmas-party/
LOCATION:The Varsity Club\, Oxford
ATTACH;FMTTYPE=image/jpeg:https://www.oxfordcyclingclub.co.uk/wp-content/uploads/2018/11/OCC-Christmas-Party.jpg
END:VEVENT
END:VCALENDAR