BEGIN:VCALENDAR
VERSION:2.0
PRODID:-//Oxford Cycling Club - ECPv6.15.18//NONSGML v1.0//EN
CALSCALE:GREGORIAN
METHOD:PUBLISH
X-WR-CALNAME:Oxford Cycling Club
X-ORIGINAL-URL:https://www.oxfordcyclingclub.co.uk
X-WR-CALDESC:Events for Oxford Cycling Club
REFRESH-INTERVAL;VALUE=DURATION:PT1H
X-Robots-Tag:noindex
X-PUBLISHED-TTL:PT1H
BEGIN:VTIMEZONE
TZID:UTC
BEGIN:STANDARD
TZOFFSETFROM:+0000
TZOFFSETTO:+0000
TZNAME:UTC
DTSTART:20230101T000000
END:STANDARD
END:VTIMEZONE
BEGIN:VEVENT
DTSTART;TZID=UTC:20240629T090000
DTEND;TZID=UTC:20240629T130000
DTSTAMP:20260425T000258
CREATED:20240524T163217Z
LAST-MODIFIED:20240627T111929Z
UID:3776-1719651600-1719666000@www.oxfordcyclingclub.co.uk
SUMMARY:Saturday Morning Club Ride
DESCRIPTION:This weekend we are will be heading out at 8am and enjoying a longer ride than usual\, taking in some spectacular roads beyond Burford with a cafe stop at Chedworth Roman Villa. Full route details are now available to view and download from STRAVA. We should be back in Oxford no later than 1.30pm \nIf you are a non-member\, you are very welcome to join us\, but PLEASE contact us in advance so that we can be certain we can accommodate you. Please have a read through the HOW WE RIDE page before joining us. More information on our club rides is available HERE. \nOur club rides offer a great opportunity to learn a little more about OCC and\, if you haven’t experienced it before\, discover the benefits of cycling with a club! \nPlease note that the wearing of a helmet is mandatory and we ask anyone joining us for the first time to provide their ICE details and wear/bring clothing necessary for the likely conditions\, inner tubes and please ensure your bike is road worthy!
URL:https://www.oxfordcyclingclub.co.uk/event/saturday-morning-club-ride-68/
LOCATION:The Handlebar\, St Michael's Street\, Oxford\, OX1 2EB\, United Kingdom
ATTACH;FMTTYPE=image/jpeg:https://www.oxfordcyclingclub.co.uk/wp-content/uploads/2019/06/WestCotswolds18May19.07.jpg
END:VEVENT
END:VCALENDAR