BEGIN:VCALENDAR
VERSION:2.0
PRODID:-//Oxford Cycling Club - ECPv6.15.18//NONSGML v1.0//EN
CALSCALE:GREGORIAN
METHOD:PUBLISH
X-WR-CALNAME:Oxford Cycling Club
X-ORIGINAL-URL:https://www.oxfordcyclingclub.co.uk
X-WR-CALDESC:Events for Oxford Cycling Club
REFRESH-INTERVAL;VALUE=DURATION:PT1H
X-Robots-Tag:noindex
X-PUBLISHED-TTL:PT1H
BEGIN:VTIMEZONE
TZID:UTC
BEGIN:STANDARD
TZOFFSETFROM:+0000
TZOFFSETTO:+0000
TZNAME:UTC
DTSTART:20240101T000000
END:STANDARD
END:VTIMEZONE
BEGIN:VEVENT
DTSTART;TZID=UTC:20250719T090000
DTEND;TZID=UTC:20250719T130000
DTSTAMP:20260423T184757
CREATED:20250619T063105Z
LAST-MODIFIED:20250718T161447Z
UID:4190-1752915600-1752930000@www.oxfordcyclingclub.co.uk
SUMMARY:Saturday Morning Club Ride
DESCRIPTION:PLEASE NOTE THE EARLIER START TIME AND NEW STARTING POINT ON BOTLEY ROAD \nFirstly\, the weather. Hot\, humid  . . . and the chance of the odd shower passing through\, but that shouldn’t deter us from heading out\, right?  Good. Even more so\, when we’ve a belter of a route in store\, which a few members of the club rode a few weeks back\, whilst the rest enjoyed a day trip to the Peak District. Full route details are now on STRAVA. \nIf the weather is really poor\, then we can easily alter course and head back to Oxford a little earlier. Needless to say\, come prepared for some rain. We will be heading out at 8am from Diseno Coffee\, which is a new cafe that has just opened on the Botley Road\, adjacent to the launderette. It’s about 50 metres past Waitrose\, as you head OUT of town\, on the left hand side of Botley Road. If you want to grab a pre-ride coffee\, then please turn up a little earlier – they open at 7am\, if you want breakfast! \nIf you are a non-member\, you are very welcome to join us\, but PLEASE contact us in advance so that we can be certain we can accommodate you. Please have a read through the HOW WE RIDE page before joining us. More information on our club rides is available HERE. \nThe ride starts promptly at 9am from outside NEW GROUND COFFEE on Ship Street and the groups always aim to rendezvous back in Oxford for some post-ride refreshment  – we do not have a coffee stop during the ride. \nOur club rides offer a great opportunity to learn a little more about OCC and\, if you haven’t experienced it before\, discover the benefits of cycling with a club!
URL:https://www.oxfordcyclingclub.co.uk/event/saturday-morning-club-ride-122/
LOCATION:New Ground Coffee
END:VEVENT
END:VCALENDAR