BEGIN:VCALENDAR
VERSION:2.0
PRODID:-//Oxford Cycling Club - ECPv6.15.18//NONSGML v1.0//EN
CALSCALE:GREGORIAN
METHOD:PUBLISH
X-ORIGINAL-URL:https://www.oxfordcyclingclub.co.uk
X-WR-CALDESC:Events for Oxford Cycling Club
REFRESH-INTERVAL;VALUE=DURATION:PT1H
X-Robots-Tag:noindex
X-PUBLISHED-TTL:PT1H
BEGIN:VTIMEZONE
TZID:UTC
BEGIN:STANDARD
TZOFFSETFROM:+0000
TZOFFSETTO:+0000
TZNAME:UTC
DTSTART:20240101T000000
END:STANDARD
END:VTIMEZONE
BEGIN:VEVENT
DTSTART;TZID=UTC:20250726T080000
DTEND;TZID=UTC:20250726T130000
DTSTAMP:20260423T110630
CREATED:20250619T063156Z
LAST-MODIFIED:20250725T165407Z
UID:4192-1753516800-1753534800@www.oxfordcyclingclub.co.uk
SUMMARY:Saturday Morning Club Ride
DESCRIPTION:NB: PLEASE NOTE THE EARLIER 8am START TIME \nAn early start and a punchy Cotswolds route to enjoy tomorrow – full route details are now available on STRAVA. \nThe ride starts promptly at 8am from outside NEW GROUND COFFEE on Ship Street and the groups will aim to rendezvous back in Oxford for some post-ride refreshment at The Punter on Osney Island – we do not have a coffee stop during the ride\, so ensure you bring enough water to sustain you in the heat and your fuel of choice\, too. \nIf you are a non-member\, you are very welcome to join us\, but PLEASE contact us in advance so that we can be certain we can accommodate you. Please have a read through the HOW WE RIDE page before joining us. More information on our club rides is available HERE. \nOur club rides offer a great opportunity to learn a little more about OCC and\, if you haven’t experienced it before\, discover the benefits of cycling with a club!
URL:https://www.oxfordcyclingclub.co.uk/event/saturday-morning-club-ride-123/
LOCATION:New Ground Coffee
END:VEVENT
BEGIN:VEVENT
DTSTART;TZID=UTC:20250726T090000
DTEND;TZID=UTC:20250726T130000
DTSTAMP:20260423T110630
CREATED:20250619T063345Z
LAST-MODIFIED:20250619T063345Z
UID:4194-1753520400-1753534800@www.oxfordcyclingclub.co.uk
SUMMARY:Saturday Morning Club Ride
DESCRIPTION:The route for our weekly Saturday club ride is posted on this page by Friday afternoon. The route length is usually around the 100km mark in summer\, reducing in length in the colder months or if the weather forecast is poor. \nIf you are a non-member\, you are very welcome to join us\, but PLEASE contact us in advance so that we can be certain we can accommodate you. Please have a read through the HOW WE RIDE page before joining us. More information on our club rides is available HERE. \nThe ride starts promptly at 9am from outside NEW GROUND COFFEE on Ship Street and the groups always aim to rendezvous back in Oxford for some post-ride refreshment  – we do not have a coffee stop during the ride. \nOur club rides offer a great opportunity to learn a little more about OCC and\, if you haven’t experienced it before\, discover the benefits of cycling with a club!
URL:https://www.oxfordcyclingclub.co.uk/event/saturday-morning-club-ride-124/
LOCATION:New Ground Coffee
END:VEVENT
END:VCALENDAR