BEGIN:VCALENDAR
VERSION:2.0
PRODID:-//Oxford Cycling Club - ECPv6.15.18//NONSGML v1.0//EN
CALSCALE:GREGORIAN
METHOD:PUBLISH
X-WR-CALNAME:Oxford Cycling Club
X-ORIGINAL-URL:https://www.oxfordcyclingclub.co.uk
X-WR-CALDESC:Events for Oxford Cycling Club
REFRESH-INTERVAL;VALUE=DURATION:PT1H
X-Robots-Tag:noindex
X-PUBLISHED-TTL:PT1H
BEGIN:VTIMEZONE
TZID:UTC
BEGIN:STANDARD
TZOFFSETFROM:+0000
TZOFFSETTO:+0000
TZNAME:UTC
DTSTART:20240101T000000
END:STANDARD
END:VTIMEZONE
BEGIN:VEVENT
DTSTART;TZID=UTC:20251213T090000
DTEND;TZID=UTC:20251213T140000
DTSTAMP:20260422T191505
CREATED:20251119T144633Z
LAST-MODIFIED:20251119T145556Z
UID:4340-1765616400-1765634400@www.oxfordcyclingclub.co.uk
SUMMARY:Johnny Morrison Memorial Ride
DESCRIPTION:This is a members-only event\, in memory of Johnny Morrison\, who was taken from us in November of this year. Normal service resumes next week.
URL:https://www.oxfordcyclingclub.co.uk/event/johnny-morrison-memorial-ride/
ATTACH;FMTTYPE=image/jpeg:https://www.oxfordcyclingclub.co.uk/wp-content/uploads/2025/11/Farewell2022border-1-scaled.jpg
END:VEVENT
END:VCALENDAR