BEGIN:VCALENDAR
VERSION:2.0
PRODID:-//Oxford Cycling Club - ECPv6.15.18//NONSGML v1.0//EN
CALSCALE:GREGORIAN
METHOD:PUBLISH
X-ORIGINAL-URL:https://www.oxfordcyclingclub.co.uk
X-WR-CALDESC:Events for Oxford Cycling Club
REFRESH-INTERVAL;VALUE=DURATION:PT1H
X-Robots-Tag:noindex
X-PUBLISHED-TTL:PT1H
BEGIN:VTIMEZONE
TZID:UTC
BEGIN:STANDARD
TZOFFSETFROM:+0000
TZOFFSETTO:+0000
TZNAME:UTC
DTSTART:20240101T000000
END:STANDARD
END:VTIMEZONE
BEGIN:VEVENT
DTSTART;TZID=UTC:20251217T190000
DTEND;TZID=UTC:20251217T233000
DTSTAMP:20260422T191346
CREATED:20251119T145429Z
LAST-MODIFIED:20251119T145429Z
UID:4369-1765998000-1766014200@www.oxfordcyclingclub.co.uk
SUMMARY:OCC Christmas Party
DESCRIPTION:
URL:https://www.oxfordcyclingclub.co.uk/event/occ-christmas-party/
LOCATION:The Varsity Club\, Oxford
ATTACH;FMTTYPE=image/jpeg:https://www.oxfordcyclingclub.co.uk/wp-content/uploads/2018/11/OCC-Christmas-Party.jpg
END:VEVENT
END:VCALENDAR