BEGIN:VCALENDAR
VERSION:2.0
PRODID:-//Oxford Cycling Club - ECPv6.15.18//NONSGML v1.0//EN
CALSCALE:GREGORIAN
METHOD:PUBLISH
X-ORIGINAL-URL:https://www.oxfordcyclingclub.co.uk
X-WR-CALDESC:Events for Oxford Cycling Club
REFRESH-INTERVAL;VALUE=DURATION:PT1H
X-Robots-Tag:noindex
X-PUBLISHED-TTL:PT1H
BEGIN:VTIMEZONE
TZID:UTC
BEGIN:STANDARD
TZOFFSETFROM:+0000
TZOFFSETTO:+0000
TZNAME:UTC
DTSTART:20250101T000000
END:STANDARD
END:VTIMEZONE
BEGIN:VEVENT
DTSTART;TZID=UTC:20260307T090000
DTEND;TZID=UTC:20260307T130000
DTSTAMP:20260422T082358
CREATED:20251119T145126Z
LAST-MODIFIED:20260306T230511Z
UID:4367-1772874000-1772888400@www.oxfordcyclingclub.co.uk
SUMMARY:Saturday Morning Club Ride
DESCRIPTION:Northeasterly for wind reasons\, but avoiding HS2 chaos:  We offer an 85K route and a 65K route this week. Its cold again so layer up! \nNon-members are very welcome to join us\, but PLEASE contact us in advance so that we can be certain we can accommodate you. Please read through the HOW WE RIDE page before joining us. More information on our club rides is available HERE. \nThe ride starts at 9am from outside NEW GROUND COFFEE on Ship Street and the groups always aim to rendezvous back in Oxford for post-ride refreshment  – longer rides do not have a coffee stop during the ride\, shorter\, slower social rides may do. \nOur club rides offer a great opportunity to learn a little more about OCC and\, if you haven’t experienced it before\, discover the benefits of cycling with a club!
URL:https://www.oxfordcyclingclub.co.uk/event/saturday-morning-club-ride-152/
LOCATION:New Ground Coffee
END:VEVENT
END:VCALENDAR