BEGIN:VCALENDAR
VERSION:2.0
PRODID:-//Oxford Cycling Club - ECPv6.15.18//NONSGML v1.0//EN
CALSCALE:GREGORIAN
METHOD:PUBLISH
X-WR-CALNAME:Oxford Cycling Club
X-ORIGINAL-URL:https://www.oxfordcyclingclub.co.uk
X-WR-CALDESC:Events for Oxford Cycling Club
REFRESH-INTERVAL;VALUE=DURATION:PT1H
X-Robots-Tag:noindex
X-PUBLISHED-TTL:PT1H
BEGIN:VTIMEZONE
TZID:UTC
BEGIN:STANDARD
TZOFFSETFROM:+0000
TZOFFSETTO:+0000
TZNAME:UTC
DTSTART:20250101T000000
END:STANDARD
END:VTIMEZONE
BEGIN:VEVENT
DTSTART;TZID=UTC:20260314T090000
DTEND;TZID=UTC:20260314T130000
DTSTAMP:20260422T082237
CREATED:20260219T172110Z
LAST-MODIFIED:20260313T141245Z
UID:4426-1773478800-1773493200@www.oxfordcyclingclub.co.uk
SUMMARY:Saturday Morning Club Ride
DESCRIPTION:A lumpy start to the ride this weekend\, heading into the Cotswolds\, then back via the flat of the Thames Valley. The route is available to view and download on STRAVA.  We also have a shorter route on offer\, including a short cafe stop\, for those in need of a less challenging winter ride! \nNB: The ride will start promptly at 9am from outside DISENO COFFEE on BOTLEY ROAD and the groups will aim to rendezvous back in Oxford for some post-ride refreshment at The Punter on Osney Island. \nIf you are a non-member\, you are very welcome to join us\, but PLEASE contact us in advance so that we can be certain we can accommodate you. Please have a read through the HOW WE RIDE page before joining us. More information on our club rides is available HERE. \nOur club rides offer a great opportunity to learn a little more about OCC and\, if you haven’t experienced it before\, discover the benefits of cycling with a club!
URL:https://www.oxfordcyclingclub.co.uk/event/saturday-morning-club-ride-153/
LOCATION:New Ground Coffee
END:VEVENT
END:VCALENDAR