BEGIN:VCALENDAR
VERSION:2.0
PRODID:-//Oxford Cycling Club - ECPv6.15.18//NONSGML v1.0//EN
CALSCALE:GREGORIAN
METHOD:PUBLISH
X-ORIGINAL-URL:https://www.oxfordcyclingclub.co.uk
X-WR-CALDESC:Events for Oxford Cycling Club
REFRESH-INTERVAL;VALUE=DURATION:PT1H
X-Robots-Tag:noindex
X-PUBLISHED-TTL:PT1H
BEGIN:VTIMEZONE
TZID:UTC
BEGIN:STANDARD
TZOFFSETFROM:+0000
TZOFFSETTO:+0000
TZNAME:UTC
DTSTART:20250101T000000
END:STANDARD
END:VTIMEZONE
BEGIN:VEVENT
DTSTART;TZID=UTC:20260411T090000
DTEND;TZID=UTC:20260411T130000
DTSTAMP:20260420T072158
CREATED:20260219T172452Z
LAST-MODIFIED:20260410T190817Z
UID:4433-1775898000-1775912400@www.oxfordcyclingclub.co.uk
SUMMARY:Saturday Morning Club Ride
DESCRIPTION:START POINT: New Ground Coffee\, 9am \nMedium-Fast route: none                                                                                                                Medium route: Lambourn Classic                                                                                                             Short route\, with cafe stop: none \nOur club rides offer a great opportunity to learn a little more about OCC and\, if you haven’t experienced it before\, discover the benefits of cycling with a club! If there is enough demand\, we also run a shorter ride\, usually around the 60km mark\, including a cafe stop. \nIf you are a non-member\, you are very welcome to join us\, but PLEASE contact us in advance so that we can be certain we can accommodate you. Please have a read through the HOW WE RIDE page before joining us. More information on our club rides is available HERE. \nThe route start is subject to change\, so check updates to ensure you arrive at the correct meeting place.  The groups always aim to rendezvous back in Oxford for some post-ride refreshment.
URL:https://www.oxfordcyclingclub.co.uk/event/saturday-morning-club-ride-157/
LOCATION:New Ground Coffee
END:VEVENT
END:VCALENDAR