BEGIN:VCALENDAR
VERSION:2.0
PRODID:-//Oxford Cycling Club - ECPv6.15.18//NONSGML v1.0//EN
CALSCALE:GREGORIAN
METHOD:PUBLISH
X-WR-CALNAME:Oxford Cycling Club
X-ORIGINAL-URL:https://www.oxfordcyclingclub.co.uk
X-WR-CALDESC:Events for Oxford Cycling Club
REFRESH-INTERVAL;VALUE=DURATION:PT1H
X-Robots-Tag:noindex
X-PUBLISHED-TTL:PT1H
BEGIN:VTIMEZONE
TZID:UTC
BEGIN:STANDARD
TZOFFSETFROM:+0000
TZOFFSETTO:+0000
TZNAME:UTC
DTSTART:20250101T000000
END:STANDARD
END:VTIMEZONE
BEGIN:VEVENT
DTSTART;TZID=UTC:20260314T090000
DTEND;TZID=UTC:20260314T130000
DTSTAMP:20260422T223259
CREATED:20260219T172110Z
LAST-MODIFIED:20260313T141245Z
UID:4426-1773478800-1773493200@www.oxfordcyclingclub.co.uk
SUMMARY:Saturday Morning Club Ride
DESCRIPTION:A lumpy start to the ride this weekend\, heading into the Cotswolds\, then back via the flat of the Thames Valley. The route is available to view and download on STRAVA.  We also have a shorter route on offer\, including a short cafe stop\, for those in need of a less challenging winter ride! \nNB: The ride will start promptly at 9am from outside DISENO COFFEE on BOTLEY ROAD and the groups will aim to rendezvous back in Oxford for some post-ride refreshment at The Punter on Osney Island. \nIf you are a non-member\, you are very welcome to join us\, but PLEASE contact us in advance so that we can be certain we can accommodate you. Please have a read through the HOW WE RIDE page before joining us. More information on our club rides is available HERE. \nOur club rides offer a great opportunity to learn a little more about OCC and\, if you haven’t experienced it before\, discover the benefits of cycling with a club!
URL:https://www.oxfordcyclingclub.co.uk/event/saturday-morning-club-ride-153/
LOCATION:New Ground Coffee
END:VEVENT
BEGIN:VEVENT
DTSTART;TZID=UTC:20260321T090000
DTEND;TZID=UTC:20260321T130000
DTSTAMP:20260422T223259
CREATED:20260219T172204Z
LAST-MODIFIED:20260320T181634Z
UID:4427-1774083600-1774098000@www.oxfordcyclingclub.co.uk
SUMMARY:Saturday Morning Club Ride
DESCRIPTION:A wonderful early spring ride into the northern Cotswolds this weekend –  we have a longer 90km route on offer\, with no stops (two groups heading out – one a medium-fast pace and the other a little slower) plus a shorter 70km route with a stop at Cafe de la Poste in Chadlington for those not quite up to full speed. \nIf you are a non-member\, you are very welcome to join us\, but PLEASE contact us in advance so that we can be certain we can accommodate you. Please have a read through the HOW WE RIDE page before joining us. More information on our club rides is available HERE. \nThe ride will start promptly at 9am from outside NEW GROUND COFFEE on Ship Street and the groups will aim to rendezvous back in Oxford for some post-ride refreshment at The Punter on Osney Island. \nOur club rides offer a great opportunity to learn a little more about OCC and\, if you haven’t experienced it before\, discover the benefits of cycling with a club!
URL:https://www.oxfordcyclingclub.co.uk/event/saturday-morning-club-ride-154/
LOCATION:New Ground Coffee
END:VEVENT
BEGIN:VEVENT
DTSTART;TZID=UTC:20260328T090000
DTEND;TZID=UTC:20260328T130000
DTSTAMP:20260422T223259
CREATED:20260219T172228Z
LAST-MODIFIED:20260328T075625Z
UID:4428-1774688400-1774702800@www.oxfordcyclingclub.co.uk
SUMMARY:Saturday Morning Club Ride
DESCRIPTION:START POINT: Diseno Coffee\nMedium-Fast route: Bourton- Sherborne \nMedium route:    Sarsden-Swinbrook\nShort route\, with cafe stop: None this weekend\n\nOur club rides offer a great opportunity to learn a little more about OCC and\, if you haven’t experienced it before\, discover the benefits of cycling with a club! If there is enough demand\, we also run a shorter ride\, usually around the 60km mark\, including a cafe stop. \nIf you are a non-member\, you are very welcome to join us\, but PLEASE contact us in advance so that we can be certain we can accommodate you. Please have a read through the HOW WE RIDE page before joining us. More information on our club rides is available HERE. \nThe route start is subject to change\, so check updates to ensure you arrive at the correct meeting place.  The groups always aim to rendezvous back in Oxford for some post-ride refreshment.
URL:https://www.oxfordcyclingclub.co.uk/event/saturday-morning-club-ride-155/
LOCATION:New Ground Coffee
END:VEVENT
BEGIN:VEVENT
DTSTART;TZID=UTC:20260404T090000
DTEND;TZID=UTC:20260404T130000
DTSTAMP:20260422T223259
CREATED:20260219T172429Z
LAST-MODIFIED:20260325T110400Z
UID:4432-1775293200-1775307600@www.oxfordcyclingclub.co.uk
SUMMARY:Saturday Morning Club Ride
DESCRIPTION:START POINT: TBC                                                                                                                      Medium-Fast route: TBC                                                                                                                  Medium route: TBC                                                                                                                          Short route\, with cafe stop: TBC \nThe route for our weekly Saturday club ride is posted on this page no later than Friday afternoon. The route length is usually around the 100km mark in summer\, reducing in length in the colder months or if the weather forecast is poor. On our longer rides there is NO cafe stop. \nOur club rides offer a great opportunity to learn a little more about OCC and\, if you haven’t experienced it before\, discover the benefits of cycling with a club! If there is enough demand\, we also run a shorter ride\, usually around the 60km mark\, including a cafe stop. \nIf you are a non-member\, you are very welcome to join us\, but PLEASE contact us in advance so that we can be certain we can accommodate you. Please have a read through the HOW WE RIDE page before joining us. More information on our club rides is available HERE. \nThe route start is subject to change\, so check updates to ensure you arrive at the correct meeting place.  The groups always aim to rendezvous back in Oxford for some post-ride refreshment.
URL:https://www.oxfordcyclingclub.co.uk/event/saturday-morning-club-ride-156/
LOCATION:New Ground Coffee
END:VEVENT
BEGIN:VEVENT
DTSTART;TZID=UTC:20260411T090000
DTEND;TZID=UTC:20260411T130000
DTSTAMP:20260422T223259
CREATED:20260219T172452Z
LAST-MODIFIED:20260410T190817Z
UID:4433-1775898000-1775912400@www.oxfordcyclingclub.co.uk
SUMMARY:Saturday Morning Club Ride
DESCRIPTION:START POINT: New Ground Coffee\, 9am \nMedium-Fast route: none                                                                                                                Medium route: Lambourn Classic                                                                                                             Short route\, with cafe stop: none \nOur club rides offer a great opportunity to learn a little more about OCC and\, if you haven’t experienced it before\, discover the benefits of cycling with a club! If there is enough demand\, we also run a shorter ride\, usually around the 60km mark\, including a cafe stop. \nIf you are a non-member\, you are very welcome to join us\, but PLEASE contact us in advance so that we can be certain we can accommodate you. Please have a read through the HOW WE RIDE page before joining us. More information on our club rides is available HERE. \nThe route start is subject to change\, so check updates to ensure you arrive at the correct meeting place.  The groups always aim to rendezvous back in Oxford for some post-ride refreshment.
URL:https://www.oxfordcyclingclub.co.uk/event/saturday-morning-club-ride-157/
LOCATION:New Ground Coffee
END:VEVENT
BEGIN:VEVENT
DTSTART;TZID=UTC:20260418T090000
DTEND;TZID=UTC:20260418T130000
DTSTAMP:20260422T223259
CREATED:20260219T172519Z
LAST-MODIFIED:20260417T072006Z
UID:4434-1776502800-1776517200@www.oxfordcyclingclub.co.uk
SUMMARY:Saturday Morning Club Ride
DESCRIPTION:Several of our regular riders are enjoying some well-earned sunshine in Girona this weekend and those stuck in the UK are off to the New Forest for a gravel day out\, so there is no OCC club ride scheduled from Oxford this Saturday. Apologies if you were intending to join us for a ride\, but normal service will resume next weekend!  \nThe route for our weekly Saturday club ride is posted on this page no later than Friday afternoon. The route length is usually around the 100km mark in summer\, reducing in length in the colder months or if the weather forecast is poor. On our longer rides there is NO cafe stop. \nOur club rides offer a great opportunity to learn a little more about OCC and\, if you haven’t experienced it before\, discover the benefits of cycling with a club! If there is enough demand\, we also run a shorter ride\, usually around the 60km mark\, including a cafe stop. \nIf you are a non-member\, you are very welcome to join us\, but PLEASE contact us in advance so that we can be certain we can accommodate you. Please have a read through the HOW WE RIDE page before joining us. More information on our club rides is available HERE. \nThe route start is subject to change\, so check updates to ensure you arrive at the correct meeting place.  The groups always aim to rendezvous back in Oxford for some post-ride refreshment.
URL:https://www.oxfordcyclingclub.co.uk/event/saturday-morning-club-ride-158/
LOCATION:New Ground Coffee
ATTACH;FMTTYPE=image/jpeg:https://www.oxfordcyclingclub.co.uk/wp-content/uploads/2026/02/New-Forest-pic.jpeg
END:VEVENT
BEGIN:VEVENT
DTSTART;TZID=UTC:20260425T090000
DTEND;TZID=UTC:20260425T130000
DTSTAMP:20260422T223259
CREATED:20260325T103840Z
LAST-MODIFIED:20260325T110424Z
UID:4457-1777107600-1777122000@www.oxfordcyclingclub.co.uk
SUMMARY:Saturday Morning Club Ride
DESCRIPTION:START POINT: TBC                                                                                                                      Medium-Fast route: TBC                                                                                                                  Medium route: TBC                                                                                                                          Short route\, with cafe stop: TBC \nThe route for our weekly Saturday club ride is posted on this page no later than Friday afternoon. The route length is usually around the 100km mark in summer\, reducing in length in the colder months or if the weather forecast is poor. On our longer rides there is NO cafe stop. \nOur club rides offer a great opportunity to learn a little more about OCC and\, if you haven’t experienced it before\, discover the benefits of cycling with a club! If there is enough demand\, we also run a shorter ride\, usually around the 60km mark\, including a cafe stop. \nIf you are a non-member\, you are very welcome to join us\, but PLEASE contact us in advance so that we can be certain we can accommodate you. Please have a read through the HOW WE RIDE page before joining us. More information on our club rides is available HERE. \nThe route start is subject to change\, so check updates to ensure you arrive at the correct meeting place.  The groups always aim to rendezvous back in Oxford for some post-ride refreshment. \n 
URL:https://www.oxfordcyclingclub.co.uk/event/saturday-morning-club-ride-159/
END:VEVENT
BEGIN:VEVENT
DTSTART;TZID=UTC:20260502T090000
DTEND;TZID=UTC:20260502T130000
DTSTAMP:20260422T223259
CREATED:20260325T104321Z
LAST-MODIFIED:20260325T110514Z
UID:4462-1777712400-1777726800@www.oxfordcyclingclub.co.uk
SUMMARY:Saturday Morning Club Ride
DESCRIPTION:START POINT: TBC                                                                                                                      Medium-Fast route: TBC                                                                                                                  Medium route: TBC                                                                                                                          Short route\, with cafe stop: TBC \nThe route for our weekly Saturday club ride is posted on this page no later than Friday afternoon. The route length is usually around the 100km mark in summer\, reducing in length in the colder months or if the weather forecast is poor. On our longer rides there is NO cafe stop. \nOur club rides offer a great opportunity to learn a little more about OCC and\, if you haven’t experienced it before\, discover the benefits of cycling with a club! If there is enough demand\, we also run a shorter ride\, usually around the 60km mark\, including a cafe stop. \nIf you are a non-member\, you are very welcome to join us\, but PLEASE contact us in advance so that we can be certain we can accommodate you. Please have a read through the HOW WE RIDE page before joining us. More information on our club rides is available HERE. \nThe route start is subject to change\, so check updates to ensure you arrive at the correct meeting place.  The groups always aim to rendezvous back in Oxford for some post-ride refreshment.
URL:https://www.oxfordcyclingclub.co.uk/event/saturday-morning-club-ride-160/
END:VEVENT
BEGIN:VEVENT
DTSTART;TZID=UTC:20260509T090000
DTEND;TZID=UTC:20260509T130000
DTSTAMP:20260422T223259
CREATED:20260325T104409Z
LAST-MODIFIED:20260325T110519Z
UID:4463-1778317200-1778331600@www.oxfordcyclingclub.co.uk
SUMMARY:Saturday Morning Club Ride
DESCRIPTION:START POINT: TBC                                                                                                                      Medium-Fast route: TBC                                                                                                                  Medium route: TBC                                                                                                                          Short route\, with cafe stop: TBC \nThe route for our weekly Saturday club ride is posted on this page no later than Friday afternoon. The route length is usually around the 100km mark in summer\, reducing in length in the colder months or if the weather forecast is poor. On our longer rides there is NO cafe stop. \nOur club rides offer a great opportunity to learn a little more about OCC and\, if you haven’t experienced it before\, discover the benefits of cycling with a club! If there is enough demand\, we also run a shorter ride\, usually around the 60km mark\, including a cafe stop. \nIf you are a non-member\, you are very welcome to join us\, but PLEASE contact us in advance so that we can be certain we can accommodate you. Please have a read through the HOW WE RIDE page before joining us. More information on our club rides is available HERE. \nThe route start is subject to change\, so check updates to ensure you arrive at the correct meeting place.  The groups always aim to rendezvous back in Oxford for some post-ride refreshment.
URL:https://www.oxfordcyclingclub.co.uk/event/saturday-morning-club-ride-161/
END:VEVENT
BEGIN:VEVENT
DTSTART;TZID=UTC:20260516T090000
DTEND;TZID=UTC:20260516T130000
DTSTAMP:20260422T223259
CREATED:20260325T104439Z
LAST-MODIFIED:20260325T110451Z
UID:4464-1778922000-1778936400@www.oxfordcyclingclub.co.uk
SUMMARY:Saturday Morning Club Ride
DESCRIPTION:START POINT: TBC                                                                                                                      Medium-Fast route: TBC                                                                                                                  Medium route: TBC                                                                                                                          Short route\, with cafe stop: TBC \nThe route for our weekly Saturday club ride is posted on this page no later than Friday afternoon. The route length is usually around the 100km mark in summer\, reducing in length in the colder months or if the weather forecast is poor. On our longer rides there is NO cafe stop. \nOur club rides offer a great opportunity to learn a little more about OCC and\, if you haven’t experienced it before\, discover the benefits of cycling with a club! If there is enough demand\, we also run a shorter ride\, usually around the 60km mark\, including a cafe stop. \nIf you are a non-member\, you are very welcome to join us\, but PLEASE contact us in advance so that we can be certain we can accommodate you. Please have a read through the HOW WE RIDE page before joining us. More information on our club rides is available HERE. \nThe route start is subject to change\, so check updates to ensure you arrive at the correct meeting place.  The groups always aim to rendezvous back in Oxford for some post-ride refreshment.
URL:https://www.oxfordcyclingclub.co.uk/event/saturday-morning-club-ride-162/
END:VEVENT
BEGIN:VEVENT
DTSTART;TZID=UTC:20260523T090000
DTEND;TZID=UTC:20260523T130000
DTSTAMP:20260422T223259
CREATED:20260325T104505Z
LAST-MODIFIED:20260325T110453Z
UID:4465-1779526800-1779541200@www.oxfordcyclingclub.co.uk
SUMMARY:Saturday Morning Club Ride
DESCRIPTION:START POINT: TBC                                                                                                                      Medium-Fast route: TBC                                                                                                                  Medium route: TBC                                                                                                                          Short route\, with cafe stop: TBC \nThe route for our weekly Saturday club ride is posted on this page no later than Friday afternoon. The route length is usually around the 100km mark in summer\, reducing in length in the colder months or if the weather forecast is poor. On our longer rides there is NO cafe stop. \nOur club rides offer a great opportunity to learn a little more about OCC and\, if you haven’t experienced it before\, discover the benefits of cycling with a club! If there is enough demand\, we also run a shorter ride\, usually around the 60km mark\, including a cafe stop. \nIf you are a non-member\, you are very welcome to join us\, but PLEASE contact us in advance so that we can be certain we can accommodate you. Please have a read through the HOW WE RIDE page before joining us. More information on our club rides is available HERE. \nThe route start is subject to change\, so check updates to ensure you arrive at the correct meeting place.  The groups always aim to rendezvous back in Oxford for some post-ride refreshment.
URL:https://www.oxfordcyclingclub.co.uk/event/saturday-morning-club-ride-163/
END:VEVENT
BEGIN:VEVENT
DTSTART;TZID=UTC:20260530T090000
DTEND;TZID=UTC:20260530T130000
DTSTAMP:20260422T223259
CREATED:20260325T104530Z
LAST-MODIFIED:20260325T110456Z
UID:4466-1780131600-1780146000@www.oxfordcyclingclub.co.uk
SUMMARY:Saturday Morning Club Ride
DESCRIPTION:START POINT: TBC                                                                                                                      Medium-Fast route: TBC                                                                                                                  Medium route: TBC                                                                                                                          Short route\, with cafe stop: TBC \nThe route for our weekly Saturday club ride is posted on this page no later than Friday afternoon. The route length is usually around the 100km mark in summer\, reducing in length in the colder months or if the weather forecast is poor. On our longer rides there is NO cafe stop. \nOur club rides offer a great opportunity to learn a little more about OCC and\, if you haven’t experienced it before\, discover the benefits of cycling with a club! If there is enough demand\, we also run a shorter ride\, usually around the 60km mark\, including a cafe stop. \nIf you are a non-member\, you are very welcome to join us\, but PLEASE contact us in advance so that we can be certain we can accommodate you. Please have a read through the HOW WE RIDE page before joining us. More information on our club rides is available HERE. \nThe route start is subject to change\, so check updates to ensure you arrive at the correct meeting place.  The groups always aim to rendezvous back in Oxford for some post-ride refreshment.
URL:https://www.oxfordcyclingclub.co.uk/event/saturday-morning-club-ride-164/
END:VEVENT
END:VCALENDAR