BEGIN:VCALENDAR
VERSION:2.0
PRODID:-//Oxford Cycling Club - ECPv6.15.18//NONSGML v1.0//EN
CALSCALE:GREGORIAN
METHOD:PUBLISH
X-ORIGINAL-URL:https://www.oxfordcyclingclub.co.uk
X-WR-CALDESC:Events for Oxford Cycling Club
REFRESH-INTERVAL;VALUE=DURATION:PT1H
X-Robots-Tag:noindex
X-PUBLISHED-TTL:PT1H
BEGIN:VTIMEZONE
TZID:UTC
BEGIN:STANDARD
TZOFFSETFROM:+0000
TZOFFSETTO:+0000
TZNAME:UTC
DTSTART:20220101T000000
END:STANDARD
END:VTIMEZONE
BEGIN:VEVENT
DTSTART;TZID=UTC:20231007T090000
DTEND;TZID=UTC:20231007T130000
DTSTAMP:20260425T164517
CREATED:20230703T123930Z
LAST-MODIFIED:20231005T205948Z
UID:3321-1696669200-1696683600@www.oxfordcyclingclub.co.uk
SUMMARY:Saturday Morning Club Ride
DESCRIPTION:An OCC favourite this weekend and an unseasonably warm autumn day to enjoy too. If you are a non-member\, you are very welcome to join us\, but PLEASE contact us in advance so that we can be certain we can accommodate you. \nWe have a medium pace ride on offer and a slightly longer route for our faster groups. The ride starts promptly at 9am from outside Bike Zone and the groups will aim to rendezvous back in Oxford for some post-ride refreshment  – we do not have a coffee stop during the ride. \nOur club rides offer a great opportunity to learn a little more about OCC and\, if you haven’t experienced it before\, discover the benefits of cycling with a club! \nPlease note that the wearing of a helmet is mandatory and we ask anyone joining us for the first time to provide their ICE details and wear/bring clothing necessary for the likely conditions\, inner tubes and please ensure your bike is road worthy!
URL:https://www.oxfordcyclingclub.co.uk/event/saturday-morning-club-ride-33/
LOCATION:The Handlebar\, St Michael's Street\, Oxford\, OX1 2EB\, United Kingdom
ATTACH;FMTTYPE=image/jpeg:https://www.oxfordcyclingclub.co.uk/wp-content/uploads/2023/04/20230610_085853-2-scaled.jpg
END:VEVENT
BEGIN:VEVENT
DTSTART;TZID=UTC:20231014T090000
DTEND;TZID=UTC:20231014T130000
DTSTAMP:20260425T164517
CREATED:20230703T124006Z
LAST-MODIFIED:20231013T233731Z
UID:3322-1697274000-1697288400@www.oxfordcyclingclub.co.uk
SUMMARY:Saturday Morning Club Ride
DESCRIPTION:Details of our weekly club ride are now on STRAVA. If you are a non-member\, you are very welcome to join us\, but PLEASE contact us in advance so that we can be certain we can accommodate you. \nThe ride starts promptly at 9am from outside Bike Zone and the groups always aim to rendezvous back in Oxford for some post-ride refreshment  – we do not have a coffee stop during the ride. \nOur club rides offer a great opportunity to learn a little more about OCC and\, if you haven’t experienced it before\, discover the benefits of cycling with a club! \nPlease note that the wearing of a helmet is mandatory and we ask anyone joining us for the first time to provide their ICE details and wear/bring clothing necessary for the likely conditions\, inner tubes and please ensure your bike is road worthy!
URL:https://www.oxfordcyclingclub.co.uk/event/saturday-morning-club-ride-34/
LOCATION:The Handlebar\, St Michael's Street\, Oxford\, OX1 2EB\, United Kingdom
END:VEVENT
BEGIN:VEVENT
DTSTART;TZID=UTC:20231021T090000
DTEND;TZID=UTC:20231021T130000
DTSTAMP:20260425T164517
CREATED:20230703T124035Z
LAST-MODIFIED:20231020T163332Z
UID:3323-1697878800-1697893200@www.oxfordcyclingclub.co.uk
SUMMARY:Saturday Morning Club Ride
DESCRIPTION:In the wake of Storm Babet\, a steady spin into the Thames Valley this weekend – route details below. If you are a non-member\, you are very welcome to join us\, but PLEASE contact us in advance so that we can be certain we can accommodate you. \nThe route can be viewed and downloaded on STRAVA. The ride starts promptly at 9am from outside Bike Zone and the groups will aim to rendezvous back in Oxford for some post-ride refreshment  – we do not have a coffee stop during the ride. \nOur club rides offer a great opportunity to learn a little more about OCC and\, if you haven’t experienced it before\, discover the benefits of cycling with a club! \nPlease note that the wearing of a helmet is mandatory and we ask anyone joining us for the first time to provide their ICE details and wear/bring clothing necessary for the likely conditions\, inner tubes and please ensure your bike is road worthy!
URL:https://www.oxfordcyclingclub.co.uk/event/saturday-morning-club-ride-35/
LOCATION:The Handlebar\, St Michael's Street\, Oxford\, OX1 2EB\, United Kingdom
ATTACH;FMTTYPE=image/jpeg:https://www.oxfordcyclingclub.co.uk/wp-content/uploads/2022/12/Nov2022.jpg
END:VEVENT
BEGIN:VEVENT
DTSTART;TZID=UTC:20231028T090000
DTEND;TZID=UTC:20231028T130000
DTSTAMP:20260425T164517
CREATED:20230703T124113Z
LAST-MODIFIED:20231027T092313Z
UID:3324-1698483600-1698498000@www.oxfordcyclingclub.co.uk
SUMMARY:Saturday Morning Club Ride
DESCRIPTION:An OCC Northern Classic this week to Hinton In The Hedges. A slightly shorter ride due to the wintrery weather and not much uptake for a faster ride. There are likely to be two groups and so we have a Medium route and a shorter version for the medium-steady ride. We will regroup and refresh at the Up In Arms\, Marston. \nIf you are a non-member\, you are very welcome to join us\, but PLEASE contact us in advance so that we can be certain we can accommodate you. \nThe ride starts promptly at 9am from outside Bike Zone and the groups always aim to rendezvous back in Oxford for some post-ride refreshment  – we do not have a coffee stop during the ride. \nOur club rides offer a great opportunity to learn a little more about OCC and\, if you haven’t experienced it before\, discover the benefits of cycling with a club! \nPlease note that the wearing of a helmet is mandatory and we ask anyone joining us for the first time to provide their ICE details and wear/bring clothing necessary for the likely conditions\, inner tubes and please ensure your bike is road worthy!
URL:https://www.oxfordcyclingclub.co.uk/event/saturday-morning-club-ride-36/
LOCATION:The Handlebar\, St Michael's Street\, Oxford\, OX1 2EB\, United Kingdom
ATTACH;FMTTYPE=image/jpeg:https://www.oxfordcyclingclub.co.uk/wp-content/uploads/2022/09/10Sept2022.jpg
END:VEVENT
END:VCALENDAR