BEGIN:VCALENDAR
VERSION:2.0
PRODID:-//Oxford Cycling Club - ECPv6.15.18//NONSGML v1.0//EN
CALSCALE:GREGORIAN
METHOD:PUBLISH
X-WR-CALNAME:Oxford Cycling Club
X-ORIGINAL-URL:https://www.oxfordcyclingclub.co.uk
X-WR-CALDESC:Events for Oxford Cycling Club
REFRESH-INTERVAL;VALUE=DURATION:PT1H
X-Robots-Tag:noindex
X-PUBLISHED-TTL:PT1H
BEGIN:VTIMEZONE
TZID:UTC
BEGIN:STANDARD
TZOFFSETFROM:+0000
TZOFFSETTO:+0000
TZNAME:UTC
DTSTART:20230101T000000
END:STANDARD
END:VTIMEZONE
BEGIN:VEVENT
DTSTART;TZID=UTC:20240302T090000
DTEND;TZID=UTC:20240302T130000
DTSTAMP:20260425T030531
CREATED:20231104T131021Z
LAST-MODIFIED:20240302T080538Z
UID:3499-1709370000-1709384400@www.oxfordcyclingclub.co.uk
SUMMARY:Saturday Morning Club Ride
DESCRIPTION:The route for our weekly Saturday club ride is here. The route is around the 85km mark given the weather and fitness! More information on our club rides is available HERE. \nIf you are a non-member\, you are very welcome to join us\, but PLEASE contact us in advance so that we can be certain we can accommodate you. Please have a read through the HOW WE RIDE page before joining us. \nThe ride starts promptly at 9am from outside Bike Zone and the groups always aim to rendezvous back in Oxford for some post-ride refreshment  – we do not have a coffee stop during the ride. \nOur club rides offer a great opportunity to learn a little more about OCC and\, if you haven’t experienced it before\, discover the benefits of cycling with a club! \nPlease note that the wearing of a helmet is mandatory and we ask anyone joining us for the first time to provide their ICE details and wear/bring clothing necessary for the likely conditions\, inner tubes and please ensure your bike is road worthy!
URL:https://www.oxfordcyclingclub.co.uk/event/saturday-morning-club-ride-51/
LOCATION:The Handlebar\, St Michael's Street\, Oxford\, OX1 2EB\, United Kingdom
END:VEVENT
BEGIN:VEVENT
DTSTART;TZID=UTC:20240309T090000
DTEND;TZID=UTC:20240309T130000
DTSTAMP:20260425T030531
CREATED:20231104T131106Z
LAST-MODIFIED:20240308T142736Z
UID:3501-1709974800-1709989200@www.oxfordcyclingclub.co.uk
SUMMARY:Saturday Morning Club Ride
DESCRIPTION:Our club ride this week takes us into the Chiltern Hills\, before looping back and picking up a easterly breeze home – details now available to view and download on STRAVA. \nIf you are a non-member\, you are very welcome to join us\, but PLEASE contact us in advance so that we can be certain we can accommodate you. Please have a read through the HOW WE RIDE page before joining us. More information on our club rides is available HERE. \nThe ride will start promptly at 9am from outside Bike Zone and the groups will aim to rendezvous back in Oxford at the Up in Arms on Marston Road for some post-ride refreshment  – we do not have a coffee stop during the ride. \nOur club rides offer a great opportunity to learn a little more about OCC and\, if you haven’t experienced it before\, discover the benefits of cycling with a club! \nPlease note that the wearing of a helmet is mandatory and we ask anyone joining us for the first time to provide their ICE details and wear/bring clothing necessary for the likely conditions\, inner tubes and please ensure your bike is road worthy!
URL:https://www.oxfordcyclingclub.co.uk/event/saturday-morning-club-ride-52/
LOCATION:The Handlebar\, St Michael's Street\, Oxford\, OX1 2EB\, United Kingdom
ATTACH;FMTTYPE=image/jpeg:https://www.oxfordcyclingclub.co.uk/wp-content/uploads/2018/11/Winter-stock-1-e1542963172983.jpg
END:VEVENT
BEGIN:VEVENT
DTSTART;TZID=UTC:20240316T090000
DTEND;TZID=UTC:20240316T130000
DTSTAMP:20260425T030531
CREATED:20240308T141244Z
LAST-MODIFIED:20240315T185031Z
UID:3574-1710579600-1710594000@www.oxfordcyclingclub.co.uk
SUMMARY:Saturday Morning Club Ride
DESCRIPTION:This weekend we head southwest to Lambourn – an OCC favourite\, but this time in reverse so we catch what miniscule breeze there may be on the way home. \nMore information on our club rides is available HERE. \nIf you are a non-member\, you are very welcome to join us\, but PLEASE contact us in advance so that we can be certain we can accommodate you. Please have a read through the HOW WE RIDE page before joining us. \nThe ride starts promptly at 9am from outside Bike Zone and the groups always aim to rendezvous back in Oxford for some post-ride refreshment  – we do not have a coffee stop during the ride. \nOur club rides offer a great opportunity to learn a little more about OCC and\, if you haven’t experienced it before\, discover the benefits of cycling with a club! \nPlease note that the wearing of a helmet is mandatory and we ask anyone joining us for the first time to provide their ICE details and wear/bring clothing necessary for the likely conditions\, inner tubes and please ensure your bike is road worthy!
URL:https://www.oxfordcyclingclub.co.uk/event/saturday-morning-club-ride-53/
LOCATION:The Handlebar\, St Michael's Street\, Oxford\, OX1 2EB\, United Kingdom
ATTACH;FMTTYPE=image/jpeg:https://www.oxfordcyclingclub.co.uk/wp-content/uploads/2021/09/18Sept2021.b.jpg
END:VEVENT
BEGIN:VEVENT
DTSTART;TZID=UTC:20240323T090000
DTEND;TZID=UTC:20240323T130000
DTSTAMP:20260425T030531
CREATED:20240308T141350Z
LAST-MODIFIED:20240322T213906Z
UID:3575-1711184400-1711198800@www.oxfordcyclingclub.co.uk
SUMMARY:Saturday Morning Club Ride
DESCRIPTION:The route for our weekly Saturday club ride is now on Strava. We’re heading west to catch a homeward wind. The route length is around the 85km mark as the day will be cool turning to wet before midday. \nMore information on our club rides is available HERE. \nIf you are a non-member\, you are very welcome to join us\, but PLEASE contact us in advance so that we can be certain we can accommodate you. Please have a read through the HOW WE RIDE page before joining us. \nThe ride starts promptly at 9am from outside Bike Zone and the groups always aim to rendezvous back in Oxford for some post-ride refreshment  – we do not have a coffee stop during the ride. \nOur club rides offer a great opportunity to learn a little more about OCC and\, if you haven’t experienced it before\, discover the benefits of cycling with a club! \nPlease note that the wearing of a helmet is mandatory and we ask anyone joining us for the first time to provide their ICE details and wear/bring clothing necessary for the likely conditions\, inner tubes and please ensure your bike is road worthy!
URL:https://www.oxfordcyclingclub.co.uk/event/saturday-morning-club-ride-54/
LOCATION:The Handlebar\, St Michael's Street\, Oxford\, OX1 2EB\, United Kingdom
ATTACH;FMTTYPE=image/jpeg:https://www.oxfordcyclingclub.co.uk/wp-content/uploads/2022/12/Nov2022.jpg
END:VEVENT
BEGIN:VEVENT
DTSTART;TZID=UTC:20240330T090000
DTEND;TZID=UTC:20240330T130000
DTSTAMP:20260425T030531
CREATED:20240308T141425Z
LAST-MODIFIED:20240329T192049Z
UID:3576-1711789200-1711803600@www.oxfordcyclingclub.co.uk
SUMMARY:Saturday Morning Club Ride
DESCRIPTION:An old club favourite this weekend\, which takes us over The Ridgeway and a few roads we rarely cycle – full route details are now available to view and download from STRAVA. More information on our club rides is available HERE. \nIf you are a non-member\, you are very welcome to join us\, but PLEASE contact us in advance so that we can be certain we can accommodate you. Please have a read through the HOW WE RIDE page before joining us. \nThe ride starts promptly at 9am from outside Bike Zone and the groups always aim to rendezvous back in Oxford for some post-ride refreshment  – we do not have a coffee stop during the ride. \nOur club rides offer a great opportunity to learn a little more about OCC and\, if you haven’t experienced it before\, discover the benefits of cycling with a club! \nPlease note that the wearing of a helmet is mandatory and we ask anyone joining us for the first time to provide their ICE details and wear/bring clothing necessary for the likely conditions\, inner tubes and please ensure your bike is road worthy!
URL:https://www.oxfordcyclingclub.co.uk/event/saturday-morning-club-ride-55/
LOCATION:The Handlebar\, St Michael's Street\, Oxford\, OX1 2EB\, United Kingdom
END:VEVENT
END:VCALENDAR