BEGIN:VCALENDAR
VERSION:2.0
PRODID:-//Oxford Cycling Club - ECPv6.15.18//NONSGML v1.0//EN
CALSCALE:GREGORIAN
METHOD:PUBLISH
X-WR-CALNAME:Oxford Cycling Club
X-ORIGINAL-URL:https://www.oxfordcyclingclub.co.uk
X-WR-CALDESC:Events for Oxford Cycling Club
REFRESH-INTERVAL;VALUE=DURATION:PT1H
X-Robots-Tag:noindex
X-PUBLISHED-TTL:PT1H
BEGIN:VTIMEZONE
TZID:UTC
BEGIN:STANDARD
TZOFFSETFROM:+0000
TZOFFSETTO:+0000
TZNAME:UTC
DTSTART:20230101T000000
END:STANDARD
END:VTIMEZONE
BEGIN:VEVENT
DTSTART;TZID=UTC:20240406T090000
DTEND;TZID=UTC:20240406T130000
DTSTAMP:20260425T014119
CREATED:20240308T141503Z
LAST-MODIFIED:20240308T141503Z
UID:3563-1712394000-1712408400@www.oxfordcyclingclub.co.uk
SUMMARY:Saturday Morning Club Ride
DESCRIPTION:The route for our weekly Saturday club ride is posted on this page by Friday afternoon. The route length is usually around the 100km mark in summer\, reducing in length in the colder months or if the weather forecast is poor. More information on our club rides is available HERE. \nIf you are a non-member\, you are very welcome to join us\, but PLEASE contact us in advance so that we can be certain we can accommodate you. Please have a read through the HOW WE RIDE page before joining us. \nThe ride starts promptly at 9am from outside Bike Zone and the groups always aim to rendezvous back in Oxford for some post-ride refreshment  – we do not have a coffee stop during the ride. \nOur club rides offer a great opportunity to learn a little more about OCC and\, if you haven’t experienced it before\, discover the benefits of cycling with a club! \nPlease note that the wearing of a helmet is mandatory and we ask anyone joining us for the first time to provide their ICE details and wear/bring clothing necessary for the likely conditions\, inner tubes and please ensure your bike is road worthy!
URL:https://www.oxfordcyclingclub.co.uk/event/saturday-morning-club-ride-56/
LOCATION:The Handlebar\, St Michael's Street\, Oxford\, OX1 2EB\, United Kingdom
END:VEVENT
BEGIN:VEVENT
DTSTART;TZID=UTC:20240413T090000
DTEND;TZID=UTC:20240413T130000
DTSTAMP:20260425T014119
CREATED:20240308T141545Z
LAST-MODIFIED:20240412T203524Z
UID:3564-1712998800-1713013200@www.oxfordcyclingclub.co.uk
SUMMARY:Saturday Morning Club Ride
DESCRIPTION:All aboard for the Charlbury Rollers!  A mild day with a light breeze for the way home – download the route here. \nIf you are a non-member\, you are very welcome to join us\, but PLEASE contact us in advance so that we can be certain we can accommodate you. Please have a read through the HOW WE RIDE page before joining us. \nThe ride starts promptly at 9am from outside Bike Zone and the groups always aim to rendezvous back in Oxford for some post-ride refreshment  – we do not have a coffee stop during the ride. \nOur club rides offer a great opportunity to learn a little more about OCC and\, if you haven’t experienced it before\, discover the benefits of cycling with a club! \nPlease note that the wearing of a helmet is mandatory and we ask anyone joining us for the first time to provide their ICE details and wear/bring clothing necessary for the likely conditions\, inner tubes and please ensure your bike is road worthy!
URL:https://www.oxfordcyclingclub.co.uk/event/saturday-morning-club-ride-57/
LOCATION:The Handlebar\, St Michael's Street\, Oxford\, OX1 2EB\, United Kingdom
ATTACH;FMTTYPE=image/jpeg:https://www.oxfordcyclingclub.co.uk/wp-content/uploads/2021/12/1Feb20.B.low_-e1640865412734.jpg
END:VEVENT
BEGIN:VEVENT
DTSTART;TZID=UTC:20240420T090000
DTEND;TZID=UTC:20240420T130000
DTSTAMP:20260425T014119
CREATED:20240308T141617Z
LAST-MODIFIED:20240419T141411Z
UID:3565-1713603600-1713618000@www.oxfordcyclingclub.co.uk
SUMMARY:Saturday Morning Club Ride
DESCRIPTION:Several of our regular members are heading away to Xàbia this weekend for some spectacular cycling in the Spanish sunshine\, but our club ride will be heading out as normal from Bike Zone. We have a northerly route from the archives to enjoy this week\, hopefully picking up a tailwind on the way home! Details are now available on STRAVA\, with a shorter route for our medium pace group and a slightly longer alternative for the faster riders. \nIf you are a non-member\, you are very welcome to join us\, but PLEASE contact us in advance so that we can be certain we can accommodate you. Please have a read through the HOW WE RIDE page before joining us. More information on our club rides is available HERE. \nThe ride will start promptly at 9am from outside Bike Zone and the groups will aim to rendezvous back in Oxford for some post-ride refreshment  – we do not have a coffee stop during the ride. \nOur club rides offer a great opportunity to learn a little more about OCC and\, if you haven’t experienced it before\, discover the benefits of cycling with a club! \nPlease note that the wearing of a helmet is mandatory and we ask anyone joining us for the first time to provide their ICE details and wear/bring clothing necessary for the likely conditions\, inner tubes and please ensure your bike is road worthy!
URL:https://www.oxfordcyclingclub.co.uk/event/saturday-morning-club-ride-58/
LOCATION:The Handlebar\, St Michael's Street\, Oxford\, OX1 2EB\, United Kingdom
ATTACH;FMTTYPE=image/jpeg:https://www.oxfordcyclingclub.co.uk/wp-content/uploads/2022/09/29July2021-scaled.jpg
END:VEVENT
BEGIN:VEVENT
DTSTART;TZID=UTC:20240427T090000
DTEND;TZID=UTC:20240427T130000
DTSTAMP:20260425T014119
CREATED:20240308T141654Z
LAST-MODIFIED:20240426T181417Z
UID:3566-1714208400-1714222800@www.oxfordcyclingclub.co.uk
SUMMARY:Saturday Morning Club Ride
DESCRIPTION:North-East Ho this week due to wind direction. Download the routes here – 101km for the MF and 90km for the Medium group so we all should return together. \nMore information on our club rides is available HERE. \nIf you are a non-member\, you are very welcome to join us\, but PLEASE contact us in advance so that we can be certain we can accommodate you. Please have a read through the HOW WE RIDE page before joining us. \nThe ride starts promptly at 9am from outside Bike Zone and the groups always aim to rendezvous back in Oxford for some post-ride refreshment  – we do not have a coffee stop during the ride. \nOur club rides offer a great opportunity to learn a little more about OCC and\, if you haven’t experienced it before\, discover the benefits of cycling with a club! \nPlease note that the wearing of a helmet is mandatory and we ask anyone joining us for the first time to provide their ICE details and wear/bring clothing necessary for the likely conditions\, inner tubes and please ensure your bike is road worthy!
URL:https://www.oxfordcyclingclub.co.uk/event/saturday-morning-club-ride-59/
LOCATION:The Handlebar\, St Michael's Street\, Oxford\, OX1 2EB\, United Kingdom
ATTACH;FMTTYPE=image/jpeg:https://www.oxfordcyclingclub.co.uk/wp-content/uploads/2018/04/Spring-stock-images-2-e1524571295677.jpg
END:VEVENT
END:VCALENDAR