BEGIN:VCALENDAR
VERSION:2.0
PRODID:-//Oxford Cycling Club - ECPv6.15.18//NONSGML v1.0//EN
CALSCALE:GREGORIAN
METHOD:PUBLISH
X-ORIGINAL-URL:https://www.oxfordcyclingclub.co.uk
X-WR-CALDESC:Events for Oxford Cycling Club
REFRESH-INTERVAL;VALUE=DURATION:PT1H
X-Robots-Tag:noindex
X-PUBLISHED-TTL:PT1H
BEGIN:VTIMEZONE
TZID:UTC
BEGIN:STANDARD
TZOFFSETFROM:+0000
TZOFFSETTO:+0000
TZNAME:UTC
DTSTART:20240101T000000
END:STANDARD
END:VTIMEZONE
BEGIN:VEVENT
DTSTART;TZID=UTC:20250104T090000
DTEND;TZID=UTC:20250104T130000
DTSTAMP:20260424T054505
CREATED:20241108T144235Z
LAST-MODIFIED:20241220T164209Z
UID:3915-1735981200-1735995600@www.oxfordcyclingclub.co.uk
SUMMARY:Saturday Morning Club Ride
DESCRIPTION:The route for our weekly Saturday club ride is posted on this page by Friday afternoon. The route length is usually around the 100km mark in summer\, reducing in length in the colder months or if the weather forecast is poor. More information on our club rides is available HERE. \nIf you are a non-member\, you are very welcome to join us\, but PLEASE contact us in advance so that we can be certain we can accommodate you. Please have a read through the HOW WE RIDE page before joining us. \nThe ride starts promptly at 9am from outside Bike Zone and the groups always aim to rendezvous back in Oxford for some post-ride refreshment  – we do not have a coffee stop during the ride. \nOur club rides offer a great opportunity to learn a little more about OCC and\, if you haven’t experienced it before\, discover the benefits of cycling with a club!
URL:https://www.oxfordcyclingclub.co.uk/event/saturday-morning-club-ride-93/
LOCATION:The Handlebar\, St Michael's Street\, Oxford\, OX1 2EB\, United Kingdom
END:VEVENT
BEGIN:VEVENT
DTSTART;TZID=UTC:20250111T090000
DTEND;TZID=UTC:20250111T130000
DTSTAMP:20260424T054505
CREATED:20241108T144301Z
LAST-MODIFIED:20241220T164205Z
UID:3913-1736586000-1736600400@www.oxfordcyclingclub.co.uk
SUMMARY:Saturday Morning Club Ride
DESCRIPTION:The route for our weekly Saturday club ride is posted on this page by Friday afternoon. The route length is usually around the 100km mark in summer\, reducing in length in the colder months or if the weather forecast is poor. More information on our club rides is available HERE. \nIf you are a non-member\, you are very welcome to join us\, but PLEASE contact us in advance so that we can be certain we can accommodate you. Please have a read through the HOW WE RIDE page before joining us. \nThe ride starts promptly at 9am from outside Bike Zone and the groups always aim to rendezvous back in Oxford for some post-ride refreshment  – we do not have a coffee stop during the ride. \nOur club rides offer a great opportunity to learn a little more about OCC and\, if you haven’t experienced it before\, discover the benefits of cycling with a club!
URL:https://www.oxfordcyclingclub.co.uk/event/saturday-morning-club-ride-94/
LOCATION:The Handlebar\, St Michael's Street\, Oxford\, OX1 2EB\, United Kingdom
END:VEVENT
BEGIN:VEVENT
DTSTART;TZID=UTC:20250118T090000
DTEND;TZID=UTC:20250118T130000
DTSTAMP:20260424T054505
CREATED:20241108T144325Z
LAST-MODIFIED:20250117T173108Z
UID:3917-1737190800-1737205200@www.oxfordcyclingclub.co.uk
SUMMARY:Saturday Morning Club Ride
DESCRIPTION:A relatively flat loop to the Ridgeway this Saturday\, punctuated by the punchy little climb up Dragon Hill to The White Horse\, which has an unerring ability to test winter legs!  Full route details are now available on STRAVA. \nIf you are a non-member\, you are very welcome to join us\, but PLEASE contact us in advance so that we can be certain we can accommodate you. Please have a read through the HOW WE RIDE page before joining us. More information on our club rides is available HERE. \nThe ride starts promptly at 9am from outside Bike Zone and the groups always aim to rendezvous back in Oxford for some post-ride refreshment  – we do not have a coffee stop during the ride. \nOur club rides offer a great opportunity to learn a little more about OCC and\, if you haven’t experienced it before\, discover the benefits of cycling with a club!
URL:https://www.oxfordcyclingclub.co.uk/event/saturday-morning-club-ride-95/
LOCATION:The Handlebar\, St Michael's Street\, Oxford\, OX1 2EB\, United Kingdom
END:VEVENT
BEGIN:VEVENT
DTSTART;TZID=UTC:20250125T100000
DTEND;TZID=UTC:20250125T130000
DTSTAMP:20260424T054505
CREATED:20241108T144356Z
LAST-MODIFIED:20250124T181908Z
UID:3918-1737799200-1737810000@www.oxfordcyclingclub.co.uk
SUMMARY:Saturday Morning Club Ride
DESCRIPTION:The weather on Saturday is icy-dicey. We have postponed the club ride until 10 am\, and a call will be made at 9 am based on the termperature and ice conditions. Non-members please do not come to the Handlebar – this ride will be members only.
URL:https://www.oxfordcyclingclub.co.uk/event/saturday-morning-club-ride-96/
LOCATION:The Handlebar\, St Michael's Street\, Oxford\, OX1 2EB\, United Kingdom
END:VEVENT
END:VCALENDAR