BEGIN:VCALENDAR
VERSION:2.0
PRODID:-//Oxford Cycling Club - ECPv6.15.18//NONSGML v1.0//EN
CALSCALE:GREGORIAN
METHOD:PUBLISH
X-ORIGINAL-URL:https://www.oxfordcyclingclub.co.uk
X-WR-CALDESC:Events for Oxford Cycling Club
REFRESH-INTERVAL;VALUE=DURATION:PT1H
X-Robots-Tag:noindex
X-PUBLISHED-TTL:PT1H
BEGIN:VTIMEZONE
TZID:UTC
BEGIN:STANDARD
TZOFFSETFROM:+0000
TZOFFSETTO:+0000
TZNAME:UTC
DTSTART:20240101T000000
END:STANDARD
END:VTIMEZONE
BEGIN:VEVENT
DTSTART;TZID=UTC:20250427T080000
DTEND;TZID=UTC:20250501T230000
DTSTAMP:20260423T204152
CREATED:20250421T141356Z
LAST-MODIFIED:20250421T141356Z
UID:4117-1745740800-1746140400@www.oxfordcyclingclub.co.uk
SUMMARY:OCC Tour to Portugal
DESCRIPTION:
URL:https://www.oxfordcyclingclub.co.uk/event/occ-tour-to-portugal/
END:VEVENT
BEGIN:VEVENT
DTSTART;TZID=UTC:20250503T090000
DTEND;TZID=UTC:20250503T130000
DTSTAMP:20260423T204152
CREATED:20250421T140522Z
LAST-MODIFIED:20250502T064831Z
UID:4105-1746262800-1746277200@www.oxfordcyclingclub.co.uk
SUMMARY:Saturday Morning Club Ride
DESCRIPTION:We’re making the most of the hot weather this weekend and heading off at 8am into the northern reaches of the Cotswolds. There will be a brief cafe stop in Moreton-in-Marsh around the halfway point.  Route details are now available to view and download on STRAVA. Mechanicals allowing\, we should be back in Oxford no later than 1.30pm \nIf you are a non-member\, you are very welcome to join us\, but PLEASE contact us in advance so that we can be certain we can accommodate you. Please have a read through the HOW WE RIDE page before joining us. More information on our club rides is available HERE. \nThe ride starts promptly at 8am from outside Columbia Cafe in Summertown and the groups will aim to rendezvous back in Oxford for some post-ride refreshment at The Punter in Osney. \nOur club rides offer a great opportunity to learn a little more about OCC and\, if you haven’t experienced it before\, discover the benefits of cycling with a club!
URL:https://www.oxfordcyclingclub.co.uk/event/saturday-morning-club-ride-110/
LOCATION:New Ground Coffee
END:VEVENT
BEGIN:VEVENT
DTSTART;TZID=UTC:20250510T090000
DTEND;TZID=UTC:20250510T130000
DTSTAMP:20260423T204152
CREATED:20250421T141643Z
LAST-MODIFIED:20250509T194101Z
UID:4118-1746867600-1746882000@www.oxfordcyclingclub.co.uk
SUMMARY:Saturday Morning Club Ride
DESCRIPTION:Chilterns Ho! this week given the brisk easterly  – but the sun should make up for the headwind. Strava for the download. \nMore information on our club rides is available HERE. \nIf you are a non-member\, you are very welcome to join us\, but PLEASE contact us in advance so that we can be certain we can accommodate you. Please have a read through the HOW WE RIDE page before joining us. \nThe ride starts promptly at 9am from outside NEW GROUND COFFEE on Ship Street and the groups always aim to rendezvous back in Oxford for some post-ride refreshment  – we do not have a coffee stop during the ride. \nOur club rides offer a great opportunity to learn a little more about OCC and\, if you haven’t experienced it before\, discover the benefits of cycling with a club!
URL:https://www.oxfordcyclingclub.co.uk/event/saturday-morning-club-ride-112/
LOCATION:New Ground Coffee
ATTACH;FMTTYPE=image/jpeg:https://www.oxfordcyclingclub.co.uk/wp-content/uploads/2022/03/28May2022-2.jpg
END:VEVENT
BEGIN:VEVENT
DTSTART;TZID=UTC:20250517T090000
DTEND;TZID=UTC:20250517T130000
DTSTAMP:20260423T204152
CREATED:20250421T142035Z
LAST-MODIFIED:20250516T171558Z
UID:4128-1747472400-1747486800@www.oxfordcyclingclub.co.uk
SUMMARY:Saturday Morning Club Ride
DESCRIPTION:A cracker of a northern Cotswolds route in store this weekend! We have two routes on offer – one for our MEDIUM group and as slightly longer parcours for our MEDIUM-FAST riders.  Both routes are available to view and download on STRAVA. \nThe ride will start promptly at 9am from outside NEW GROUND COFFEE on Ship Street and the groups will aim to rendezvous back in Oxford for some post-ride refreshment at The Punter on Osney Island. We do not have a coffee stop during the ride\, so bring enough water and fuel to sustain you! \nIf you are a non-member\, you are very welcome to join us\, but PLEASE contact us in advance so that we can be certain we can accommodate you. Please have a read through the HOW WE RIDE page before joining us. More information on our club rides is available HERE. \nOur club rides offer a great opportunity to learn a little more about OCC and\, if you haven’t experienced it before\, discover the benefits of cycling with a club!
URL:https://www.oxfordcyclingclub.co.uk/event/saturday-morning-club-ride-115/
LOCATION:New Ground Coffee
ATTACH;FMTTYPE=image/jpeg:https://www.oxfordcyclingclub.co.uk/wp-content/uploads/2021/06/12June2021-e1623669556669.jpg
END:VEVENT
BEGIN:VEVENT
DTSTART;TZID=UTC:20250524T090000
DTEND;TZID=UTC:20250524T130000
DTSTAMP:20260423T204152
CREATED:20250421T141834Z
LAST-MODIFIED:20250523T180034Z
UID:4121-1748077200-1748091600@www.oxfordcyclingclub.co.uk
SUMMARY:Saturday Morning Club Ride
DESCRIPTION:Hoping for a dry start\, the wind is in the southwest so a relatively sheltered way out followed by a loop around Faringdon and a tailwind home. A longer ride this week\, but flatter and faster.  Longer for MF and shorter for the Medium group. \nIf you are a non-member\, you are very welcome to join us\, but PLEASE contact us in advance so that we can be certain we can accommodate you. Please have a read through the HOW WE RIDE page before joining us. More information on our club rides is available HERE. \nThe ride starts promptly at 9am from outside NEW GROUND COFFEE on Ship Street and the groups always aim to rendezvous back in Oxford for some post-ride refreshment  – we do not have a coffee stop during the ride. \nOur club rides offer a great opportunity to learn a little more about OCC and\, if you haven’t experienced it before\, discover the benefits of cycling with a club!
URL:https://www.oxfordcyclingclub.co.uk/event/saturday-morning-club-ride-113/
LOCATION:New Ground Coffee
ATTACH;FMTTYPE=image/jpeg:https://www.oxfordcyclingclub.co.uk/wp-content/uploads/2025/02/479542928_1167483611660779_7462584513391748930_n-e1739719353662.jpg
END:VEVENT
BEGIN:VEVENT
DTSTART;TZID=UTC:20250531T080000
DTEND;TZID=UTC:20250531T170000
DTSTAMP:20260423T204152
CREATED:20250421T141858Z
LAST-MODIFIED:20250421T141858Z
UID:4122-1748678400-1748710800@www.oxfordcyclingclub.co.uk
SUMMARY:Saturday Morning Club Ride
DESCRIPTION:The route for our weekly Saturday club ride is posted on this page by Friday afternoon. The route length is usually around the 100km mark in summer\, reducing in length in the colder months or if the weather forecast is poor. \nIf you are a non-member\, you are very welcome to join us\, but PLEASE contact us in advance so that we can be certain we can accommodate you. Please have a read through the HOW WE RIDE page before joining us. More information on our club rides is available HERE. \nThe ride starts promptly at 9am from outside NEW GROUND COFFEE on Ship Street and the groups always aim to rendezvous back in Oxford for some post-ride refreshment  – we do not have a coffee stop during the ride. \nOur club rides offer a great opportunity to learn a little more about OCC and\, if you haven’t experienced it before\, discover the benefits of cycling with a club!
URL:https://www.oxfordcyclingclub.co.uk/event/saturday-morning-club-ride-114/
LOCATION:New Ground Coffee
END:VEVENT
END:VCALENDAR