BEGIN:VCALENDAR
VERSION:2.0
PRODID:-//Oxford Cycling Club - ECPv6.15.18//NONSGML v1.0//EN
CALSCALE:GREGORIAN
METHOD:PUBLISH
X-ORIGINAL-URL:https://www.oxfordcyclingclub.co.uk
X-WR-CALDESC:Events for Oxford Cycling Club
REFRESH-INTERVAL;VALUE=DURATION:PT1H
X-Robots-Tag:noindex
X-PUBLISHED-TTL:PT1H
BEGIN:VTIMEZONE
TZID:UTC
BEGIN:STANDARD
TZOFFSETFROM:+0000
TZOFFSETTO:+0000
TZNAME:UTC
DTSTART:20240101T000000
END:STANDARD
END:VTIMEZONE
BEGIN:VEVENT
DTSTART;TZID=UTC:20250802T090000
DTEND;TZID=UTC:20250802T130000
DTSTAMP:20260423T062554
CREATED:20250619T063626Z
LAST-MODIFIED:20250619T063626Z
UID:4196-1754125200-1754139600@www.oxfordcyclingclub.co.uk
SUMMARY:Saturday Morning Club Ride
DESCRIPTION:The route for our weekly Saturday club ride is posted on this page by Friday afternoon. The route length is usually around the 100km mark in summer\, reducing in length in the colder months or if the weather forecast is poor. \nIf you are a non-member\, you are very welcome to join us\, but PLEASE contact us in advance so that we can be certain we can accommodate you. Please have a read through the HOW WE RIDE page before joining us. More information on our club rides is available HERE. \nThe ride starts promptly at 9am from outside NEW GROUND COFFEE on Ship Street and the groups always aim to rendezvous back in Oxford for some post-ride refreshment  – we do not have a coffee stop during the ride. \nOur club rides offer a great opportunity to learn a little more about OCC and\, if you haven’t experienced it before\, discover the benefits of cycling with a club!
URL:https://www.oxfordcyclingclub.co.uk/event/saturday-morning-club-ride-125/
LOCATION:New Ground Coffee
END:VEVENT
BEGIN:VEVENT
DTSTART;TZID=UTC:20250809T090000
DTEND;TZID=UTC:20250809T130000
DTSTAMP:20260423T062554
CREATED:20250619T063710Z
LAST-MODIFIED:20250808T171732Z
UID:4197-1754730000-1754744400@www.oxfordcyclingclub.co.uk
SUMMARY:Saturday Morning Club Ride
DESCRIPTION:A classic Chilterns ride this week through Ewelme\, down to Pishill\, along the Radnage Rumble and home via the Pheonix Trail and Thame. Strava for the download. \nIf you are a non-member\, you are very welcome to join us\, but PLEASE contact us in advance so that we can be certain we can accommodate you. Please have a read through the HOW WE RIDE page before joining us. More information on our club rides is available HERE. \nThe ride starts promptly at 9am from outside NEW GROUND COFFEE on Ship Street and the groups always aim to rendezvous back in Oxford for some post-ride refreshment  – we do not have a coffee stop during the ride. \nOur club rides offer a great opportunity to learn a little more about OCC and\, if you haven’t experienced it before\, discover the benefits of cycling with a club!
URL:https://www.oxfordcyclingclub.co.uk/event/saturday-morning-club-ride-126/
LOCATION:New Ground Coffee
ATTACH;FMTTYPE=image/jpeg:https://www.oxfordcyclingclub.co.uk/wp-content/uploads/2022/03/20April2019.jpg
END:VEVENT
BEGIN:VEVENT
DTSTART;TZID=UTC:20250816T090000
DTEND;TZID=UTC:20250816T130000
DTSTAMP:20260423T062554
CREATED:20250619T063757Z
LAST-MODIFIED:20250815T184227Z
UID:4200-1755334800-1755349200@www.oxfordcyclingclub.co.uk
SUMMARY:Saturday Morning Club Ride
DESCRIPTION:Its a north easterly wind this week\, so its time to Beast The East! Coming back to the Up In Arms for any that just want a social. \nIf you are a non-member\, you are very welcome to join us\, but PLEASE contact us in advance so that we can be certain we can accommodate you. Please have a read through the HOW WE RIDE page before joining us. More information on our club rides is available HERE. \nThe ride starts promptly at 9am from outside NEW GROUND COFFEE on Ship Street and the groups always aim to rendezvous back in Oxford for some post-ride refreshment  – we do not have a coffee stop during the ride. \nOur club rides offer a great opportunity to learn a little more about OCC and\, if you haven’t experienced it before\, discover the benefits of cycling with a club!
URL:https://www.oxfordcyclingclub.co.uk/event/saturday-morning-club-ride-127/
LOCATION:New Ground Coffee
END:VEVENT
BEGIN:VEVENT
DTSTART;TZID=UTC:20250823T090000
DTEND;TZID=UTC:20250823T130000
DTSTAMP:20260423T062554
CREATED:20250619T063911Z
LAST-MODIFIED:20250822T160232Z
UID:4202-1755939600-1755954000@www.oxfordcyclingclub.co.uk
SUMMARY:Saturday Morning Club Ride
DESCRIPTION:The route for this Saturday is now available to view and download on STRAVA. \nIf you are a non-member\, you are very welcome to join us\, but PLEASE contact us in advance so that we can be certain we can accommodate you. Please have a read through the HOW WE RIDE page before joining us. More information on our club rides is available HERE. \nThe ride starts promptly at 9am from outside NEW GROUND COFFEE on Ship Street and the groups will aim to rendezvous back in Oxford for some post-ride refreshment  – we do not have a coffee stop during the ride. \nOur club rides offer a great opportunity to learn a little more about OCC and\, if you haven’t experienced it before\, discover the benefits of cycling with a club!
URL:https://www.oxfordcyclingclub.co.uk/event/saturday-morning-club-ride-128/
LOCATION:New Ground Coffee
ATTACH;FMTTYPE=image/jpeg:https://www.oxfordcyclingclub.co.uk/wp-content/uploads/2022/03/28May2022-1-e1653748606285.jpg
END:VEVENT
BEGIN:VEVENT
DTSTART;TZID=UTC:20250830T090000
DTEND;TZID=UTC:20250830T130000
DTSTAMP:20260423T062554
CREATED:20250619T064429Z
LAST-MODIFIED:20250829T160228Z
UID:4204-1756544400-1756558800@www.oxfordcyclingclub.co.uk
SUMMARY:Saturday Morning Club Ride
DESCRIPTION:A rare OCC sortie to the White Horse of Uffington this weekend and a breezy south-westerly to carry us home\, hopefully well before the rain arrives in the afternoon. Full route details are now available to view and download on STRAVA. Due to the heavy rain on Friday\, it’s likely there will be some standing water on some of the rural roads\, so please fix a mudguard to your rear wheel please! \nThe ride will start promptly at 9am from outside NEW GROUND COFFEE on Ship Street and the groups always aim to rendezvous back in Oxford for some post-ride refreshment – we do not have a coffee stop during the ride. \nIf you are a non-member\, you are very welcome to join us\, but PLEASE contact us in advance so that we can be certain we can accommodate you. Please have a read through the HOW WE RIDE page before joining us. More information on our club rides is available HERE. \nOur club rides offer a great opportunity to learn a little more about OCC and\, if you haven’t experienced it before\, discover the benefits of cycling with a club!
URL:https://www.oxfordcyclingclub.co.uk/event/saturday-morning-club-ride-129/
LOCATION:New Ground Coffee
ATTACH;FMTTYPE=image/jpeg:https://www.oxfordcyclingclub.co.uk/wp-content/uploads/2025/08/white_horse_photo.jpg
END:VEVENT
END:VCALENDAR